BEGIN:VCALENDAR
VERSION:2.0
PRODID:-//Boletos.Express//Event//ES
BEGIN:VEVENT
UID:26@liderazgo.boletos.express
DTSTAMP:20260423T111643Z
DTSTART:20260530T010000Z
DTEND:20260530T023000Z
SUMMARY:Controla Tu Miedo: Neurociencia aplicada a la comunicación
DESCRIPTION:n  ¡Dale un upgrade a tu cerebro\, desbloquea tu superpoder comunicativo y lidera con claridad\, seguridad y presencia en una experiencia que te dejará con todo para comerte el mundo!Lo que desarrollarás:- Dominio del miedo al hablar en público desde la neurociencia.&amp\;nbsp\;- Enfoque integral para comunicar con impacto.&amp\;nbsp\;- Herramientas practicas aplicadas en tiempo real&amp\;nbsp\;- Estrategias para captar la atención y sostenerla.Salvatore Esposito es un Coach en Neurociencia\, profesional deportiv...
LOCATION:Sede Internacional
END:VEVENT
END:VCALENDAR